BEGIN:VCALENDAR
VERSION:2.0
PRODID:-//eventon.com NONSGML v1.0//EN
CALSCALE:GREGORIAN
METHOD:PUBLISH
BEGIN:VEVENT
UID:69e84afd48d3f
DTSTAMP:20260422T041349Z
DTSTART:20240704T113000Z
DTEND:20240704T130000Z
LOCATION:Aula Cantón
SUMMARY:INSTITUTO DE INVESTIGACIONES HEMATOLÓGICAS (IIHEMA) ATENEOS CLÍNICOS
DESCRIPTION:INSTITUTO DE INVESTIGACIONES HEMATOLÓGICAS (IIHEMA) ATENEOS CL
 ÍNICOS\nhttps://anm.edu.ar/events/instituto-de-investigaciones-hematologic
 as-iihema-ateneos-clinicos-5/
URL:https://anm.edu.ar/events/instituto-de-investigaciones-hematologicas-iihema-ateneos-clinicos-5/
END:VEVENT
END:VCALENDAR