BEGIN:VCALENDAR
VERSION:2.0
PRODID:-//eventon.com NONSGML v1.0//EN
CALSCALE:GREGORIAN
METHOD:PUBLISH
BEGIN:VEVENT
UID:69e8f4e94c537
DTSTAMP:20260422T161849Z
DTSTART:20240801T113000Z
DTEND:20240801T130000Z
LOCATION:Aula Cantón
SUMMARY:INSTITUTO DE INVESTIGACIONES HEMATOLÓGICAS (IIHEMA) ATENEOS CLÍNICOS
DESCRIPTION:INSTITUTO DE INVESTIGACIONES HEMATOLÓGICAS (IIHEMA) ATENEOS CL
 ÍNICOS\nhttps://anm.edu.ar/events/instituto-de-investigaciones-hematologic
 as-iihema-ateneos-clinicos-6/
URL:https://anm.edu.ar/events/instituto-de-investigaciones-hematologicas-iihema-ateneos-clinicos-6/
END:VEVENT
END:VCALENDAR