BEGIN:VCALENDAR
VERSION:2.0
PRODID:-//eventon.com NONSGML v1.0//EN
CALSCALE:GREGORIAN
METHOD:PUBLISH
BEGIN:VEVENT
UID:69ed069056cdc
DTSTAMP:20260425T182312Z
DTSTART:20240807T140000Z
DTEND:20240807T153000Z
LOCATION:Aula Cantón
SUMMARY:CONSEJO ACADÉMICO DE ÉTICA EN MEDICINA (CAEEM) ASAMBLEA GENERAL ORDINARIA
DESCRIPTION:CONSEJO ACADÉMICO DE ÉTICA EN MEDICINA (CAEEM) ASAMBLEA GENER
 AL ORDINARIA\nhttps://anm.edu.ar/events/consejo-academico-de-etica-en-medic
 ina-caeem-asamblea-general-ordinaria/
URL:https://anm.edu.ar/events/consejo-academico-de-etica-en-medicina-caeem-asamblea-general-ordinaria/
END:VEVENT
END:VCALENDAR