BEGIN:VCALENDAR
VERSION:2.0
PRODID:-//eventon.com NONSGML v1.0//EN
CALSCALE:GREGORIAN
METHOD:PUBLISH
BEGIN:VEVENT
UID:69e5def443cb7
DTSTAMP:20260420T080820Z
DTSTART:20241213T200000Z
DTEND:20241214T010000Z
LOCATION:Aula Cantón
SUMMARY:SOCIEDAD ARGENTINA DE CARDIOLOGÍA - ACTO ACADÉMICO
DESCRIPTION:SOCIEDAD ARGENTINA DE CARDIOLOGÍA - ACTO ACADÉMICO\nhttps://a
 nm.edu.ar/events/sociedad-argentina-de-cardiologia-acto-academico-2/
URL:https://anm.edu.ar/events/sociedad-argentina-de-cardiologia-acto-academico-2/
END:VEVENT
END:VCALENDAR