BEGIN:VCALENDAR
VERSION:2.0
PRODID:-//eventon.com NONSGML v1.0//EN
CALSCALE:GREGORIAN
METHOD:PUBLISH
BEGIN:VEVENT
UID:69e5def7a4cc1
DTSTAMP:20260420T080823Z
DTSTART:20250508T113000Z
DTEND:20250508T130000Z
LOCATION:Aula Cantón
SUMMARY:INSTITUTO DE INVESTIGACIONES HEMATOLÓGICAS (IIHEMA) - ATENEOS CLÍNICOS
DESCRIPTION:INSTITUTO DE INVESTIGACIONES HEMATOLÓGICAS (IIHEMA) - ATENEOS 
 CLÍNICOS\nhttps://anm.edu.ar/events/instituto-de-investigaciones-hematolog
 icas-iihema-ateneos-clinicos-10/
URL:https://anm.edu.ar/events/instituto-de-investigaciones-hematologicas-iihema-ateneos-clinicos-10/
END:VEVENT
END:VCALENDAR