BEGIN:VCALENDAR
VERSION:2.0
PRODID:-//eventon.com NONSGML v1.0//EN
CALSCALE:GREGORIAN
METHOD:PUBLISH
BEGIN:VEVENT
UID:69ecee20ab9ab
DTSTAMP:20260425T163856Z
DTSTART:20260410T130000Z
DTEND:20260410T143000Z
LOCATION:Aula Cantón
SUMMARY:INSTITUTO DE MEDICINA EXPERIMENTAL (IMEX - CONICET - ANM) SEMINARIOS INSTITUCIONALES
DESCRIPTION:INSTITUTO DE MEDICINA EXPERIMENTAL (IMEX - CONICET - ANM) SEMIN
 ARIOS INSTITUCIONALES\nhttps://anm.edu.ar/events/instituto-de-medicina-expe
 rimental-imex-conicet-anm-seminarios-institucionales-22/
URL:https://anm.edu.ar/events/instituto-de-medicina-experimental-imex-conicet-anm-seminarios-institucionales-22/
END:VEVENT
END:VCALENDAR