BEGIN:VCALENDAR
VERSION:2.0
PRODID:-//eventon.com NONSGML v1.0//EN
CALSCALE:GREGORIAN
METHOD:PUBLISH
BEGIN:VEVENT
UID:69ed016d94b09
DTSTAMP:20260425T180117Z
DTSTART:20260417T130000Z
DTEND:20260417T143000Z
LOCATION:Aula Cantón
SUMMARY:INSTITUTO DE MEDICINA EXPERIMENTAL (IMEX - CONICET - ANM) SEMINARIOS INSTITUCIONALES
DESCRIPTION:INSTITUTO DE MEDICINA EXPERIMENTAL (IMEX - CONICET - ANM) SEMIN
 ARIOS INSTITUCIONALES\nhttps://anm.edu.ar/events/instituto-de-medicina-expe
 rimental-imex-conicet-anm-seminarios-institucionales-22/var/ri-1.l-L1
URL:https://anm.edu.ar/events/instituto-de-medicina-experimental-imex-conicet-anm-seminarios-institucionales-22/var/ri-1.l-L1
END:VEVENT
END:VCALENDAR